BEGIN:VCALENDAR
VERSION:2.0
PRODID:-//Goulburn Beekeepers Club - ECPv5.3.2.1//NONSGML v1.0//EN
CALSCALE:GREGORIAN
METHOD:PUBLISH
X-WR-CALNAME:Goulburn Beekeepers Club
X-ORIGINAL-URL:https://www.goulburnbeekeepers.asn.au
X-WR-CALDESC:Events for Goulburn Beekeepers Club
BEGIN:VTIMEZONE
TZID:Australia/Melbourne
BEGIN:STANDARD
TZOFFSETFROM:+1100
TZOFFSETTO:+1000
TZNAME:AEST
DTSTART:20180331T160000
END:STANDARD
BEGIN:DAYLIGHT
TZOFFSETFROM:+1000
TZOFFSETTO:+1100
TZNAME:AEDT
DTSTART:20181006T160000
END:DAYLIGHT
END:VTIMEZONE
BEGIN:VEVENT
DTSTART;TZID=Australia/Melbourne:20180519T080000
DTEND;TZID=Australia/Melbourne:20180520T160000
DTSTAMP:20210226T090027
CREATED:20180413T064056Z
LAST-MODIFIED:20180420T025049Z
UID:503-1526716800-1526832000@www.goulburnbeekeepers.asn.au
SUMMARY:ABA Conference & Field Day.
DESCRIPTION:
URL:https://www.goulburnbeekeepers.asn.au/event/aba-conference-field-day/
LOCATION:Diggers@The Entrance\, The Entrance\, Central Coast\, Australia
CATEGORIES:ABA Conference
END:VEVENT
END:VCALENDAR