BEGIN:VCALENDAR
VERSION:2.0
PRODID:-//Goulburn Beekeepers Club - ECPv5.3.2.1//NONSGML v1.0//EN
CALSCALE:GREGORIAN
METHOD:PUBLISH
X-WR-CALNAME:Goulburn Beekeepers Club
X-ORIGINAL-URL:https://www.goulburnbeekeepers.asn.au
X-WR-CALDESC:Events for Goulburn Beekeepers Club
BEGIN:VTIMEZONE
TZID:Australia/Sydney
BEGIN:STANDARD
TZOFFSETFROM:+1100
TZOFFSETTO:+1000
TZNAME:AEST
DTSTART:20190406T160000
END:STANDARD
BEGIN:DAYLIGHT
TZOFFSETFROM:+1000
TZOFFSETTO:+1100
TZNAME:AEDT
DTSTART:20191005T160000
END:DAYLIGHT
END:VTIMEZONE
BEGIN:VEVENT
DTSTART;TZID=Australia/Sydney:20191119T193000
DTEND;TZID=Australia/Sydney:20191119T210000
DTSTAMP:20210226T085918
CREATED:20191116T003542Z
LAST-MODIFIED:20191116T003542Z
UID:907-1574191800-1574197200@www.goulburnbeekeepers.asn.au
SUMMARY:Monthly General Meeting
DESCRIPTION:This will be our last general meeting for 2019.
URL:https://www.goulburnbeekeepers.asn.au/event/monthly-general-meeting/
LOCATION:Goulburn Workers Club\, McKell Place\, Goulburn\, NSW\, 2580\, Australia
CATEGORIES:Meeting
END:VEVENT
END:VCALENDAR